BEGIN:VCALENDAR
VERSION:2.0
PRODID:-//AudioTheme 3.0.0
BEGIN:VEVENT
UID:urn:uuid:e0802329-95de-4b86-b3fa-ad6573225042
URL:https://michaelmillercrusade.com/shows/bronson-bar/
DTSTART;TZID=GMT:20191111T050000
SUMMARY:Bronson Bar
DESCRIPTION:Solo performance\, w/ Rodney & John\, Ed Mattiuzzi\, more
LOCATION:Bronson Bar\, 5851 Sunset Blvd\, Hollywood\, CA\, 90028
END:VEVENT
END:VCALENDAR
