BEGIN:VCALENDAR
VERSION:2.0
PRODID:-//AudioTheme 3.0.0
BEGIN:VEVENT
UID:urn:uuid:bff95b27-5806-46e0-b531-edbfcab73a0d
URL:https://michaelmillercrusade.com/shows/elinor-drinkery/
DTSTART;TZID=GMT:20200312T030000
SUMMARY:Elinor Drinkery
DESCRIPTION:w/ Monosources
LOCATION:Elinor Drinkery\, 250 N. Tribune Ct\, Long Beach\, CA\, 90802
END:VEVENT
END:VCALENDAR
