BEGIN:VCALENDAR
VERSION:2.0
PRODID:-//AudioTheme 3.0.0
BEGIN:VEVENT
UID:urn:uuid:6f09eee3-14e8-4779-8066-cd8a129e1c00
URL:https://michaelmillercrusade.com/shows/genghis-cohen-2/
DTSTART;TZID=GMT:20190118T050000
SUMMARY:Genghis Cohen
DESCRIPTION:w/ Molly Hanmer
LOCATION:Genghis Cohen\, 740 N. Fairfax Ave\, Los Angeles\, CA\, 90046
END:VEVENT
END:VCALENDAR
