BEGIN:VCALENDAR
VERSION:2.0
PRODID:-//AudioTheme 3.0.0
BEGIN:VEVENT
UID:urn:uuid:e9b3dc8f-c716-4c3f-8a08-f85d214dd604
URL:https://michaelmillercrusade.com/shows/prospector/
DTSTART;TZID=GMT:20190109T060000
SUMMARY:Prospector
DESCRIPTION:w/ Sas
LOCATION:Prospector\, 2400 East 7th Street\, Long Beach\, CA\, 90804
END:VEVENT
END:VCALENDAR
